BEGIN:VCALENDAR
VERSION:2.0
PRODID:SchoolNow
CALSCALE:GREGORIAN
BEGIN:VEVENT
UID:384a63a6-b270-11ef-9677-0a58a9feac02
DTSTAMP:20241204T184732Z
SUMMARY:Open Swim (5-1-25)
URL;VALUE=URI:https://www.liverpool.k12.ny.us/departments/athletics/calenda
 r/7120797/open-swim-5-1-25
DTSTART:20250501T224500Z
DTEND:20250502T004500Z
END:VEVENT
END:VCALENDAR
