BEGIN:VCALENDAR
VERSION:2.0
PRODID:SchoolNow
CALSCALE:GREGORIAN
BEGIN:VEVENT
UID:46b130e6-b270-11ef-b90c-0a58a9feac02
DTSTAMP:20241204T184756Z
SUMMARY:Open Swim (5-3-25)
URL;VALUE=URI:https://www.liverpool.k12.ny.us/departments/athletics/calenda
 r/7120798/open-swim-5-3-25
DTSTART:20250503T200000Z
DTEND:20250503T220000Z
END:VEVENT
END:VCALENDAR
