BEGIN:VCALENDAR
VERSION:2.0
PRODID:SchoolNow
CALSCALE:GREGORIAN
BEGIN:VEVENT
UID:589959aa-b270-11ef-90de-0a58a9feac02
DTSTAMP:20241204T184826Z
SUMMARY:Open Swim (5-8-25)
URL;VALUE=URI:https://www.liverpool.k12.ny.us/departments/athletics/calenda
 r/7120799/open-swim-5-8-25
DTSTART:20250508T224500Z
DTEND:20250509T004500Z
END:VEVENT
END:VCALENDAR
