BEGIN:VCALENDAR
VERSION:2.0
PRODID:SchoolNow
CALSCALE:GREGORIAN
BEGIN:VEVENT
UID:70b3612a-b270-11ef-9800-0a58a9feac02
DTSTAMP:20241204T184906Z
SUMMARY:Open Swim (5-10-25)
URL;VALUE=URI:https://www.liverpool.k12.ny.us/departments/athletics/calenda
 r/7120800/open-swim-5-10-25
DTSTART:20250510T200000Z
DTEND:20250510T220000Z
END:VEVENT
END:VCALENDAR
