BEGIN:VCALENDAR
VERSION:2.0
PRODID:SchoolNow
CALSCALE:GREGORIAN
BEGIN:VEVENT
UID:17a5d3b8-b272-11ef-9632-02be1564d943
DTSTAMP:20241204T190056Z
SUMMARY:Open Swim (5-15-25)
URL;VALUE=URI:https://www.liverpool.k12.ny.us/departments/athletics/calenda
 r/7120808/open-swim-5-15-25
DTSTART:20250515T224500Z
DTEND:20250516T004500Z
END:VEVENT
END:VCALENDAR
