BEGIN:VCALENDAR
VERSION:2.0
PRODID:SchoolNow
CALSCALE:GREGORIAN
BEGIN:VEVENT
UID:4154cd72-b272-11ef-8f82-0ec4f989a31d
DTSTAMP:20241204T190206Z
SUMMARY:Open Swim (5-22-25)
URL;VALUE=URI:https://www.liverpool.k12.ny.us/departments/athletics/calenda
 r/7120810/open-swim-5-22-25
DTSTART:20250522T224500Z
DTEND:20250523T004500Z
END:VEVENT
END:VCALENDAR
