BEGIN:VCALENDAR
VERSION:2.0
PRODID:SchoolNow
CALSCALE:GREGORIAN
BEGIN:VEVENT
UID:761755b6-b272-11ef-badc-0a58a9feac02
DTSTAMP:20241204T190334Z
SUMMARY:Open Swim (5-29-25)
URL;VALUE=URI:https://www.liverpool.k12.ny.us/departments/athletics/calenda
 r/7120811/open-swim-5-29-25
DTSTART:20250529T224500Z
DTEND:20250530T004500Z
END:VEVENT
END:VCALENDAR
