BEGIN:VCALENDAR
VERSION:2.0
PRODID:SchoolNow
CALSCALE:GREGORIAN
BEGIN:VEVENT
UID:887ffd52-b272-11ef-b615-0a58a9feac02
DTSTAMP:20241204T190405Z
SUMMARY:Open Swim (5-31-25)
URL;VALUE=URI:https://www.liverpool.k12.ny.us/departments/athletics/calenda
 r/7120812/open-swim-5-31-25
DTSTART:20250531T200000Z
DTEND:20250531T220000Z
END:VEVENT
END:VCALENDAR
