BEGIN:VCALENDAR
VERSION:2.0
PRODID:SchoolNow
CALSCALE:GREGORIAN
BEGIN:VEVENT
UID:7a532470-8a80-11f0-b104-0a58a9feac02
DTSTAMP:20250905T174806Z
SUMMARY:Open Swim (10-4-25)
URL;VALUE=URI:https://www.liverpool.k12.ny.us/departments/athletics/calenda
 r/8584852/open-swim-10-4-25
DTSTART:20251004T200000Z
DTEND:20251004T220000Z
END:VEVENT
END:VCALENDAR
