BEGIN:VCALENDAR
VERSION:2.0
PRODID:SchoolNow
CALSCALE:GREGORIAN
BEGIN:VEVENT
UID:9645cf70-8a80-11f0-ac8a-0a58a9feac02
DTSTAMP:20250905T174853Z
SUMMARY:Open Swim (10-9-25)
URL;VALUE=URI:https://www.liverpool.k12.ny.us/departments/athletics/calenda
 r/8584853/open-swim-10-9-25
DTSTART:20251009T224500Z
DTEND:20251010T004500Z
END:VEVENT
END:VCALENDAR
