BEGIN:VCALENDAR
VERSION:2.0
PRODID:SchoolNow
CALSCALE:GREGORIAN
BEGIN:VEVENT
UID:ab2d9242-8a80-11f0-9a3b-0affdd65475b
DTSTAMP:20250905T174928Z
SUMMARY:Open Swim (10-11-25)
URL;VALUE=URI:https://www.liverpool.k12.ny.us/departments/athletics/calenda
 r/8584854/open-swim-10-11-25
DTSTART:20251011T200000Z
DTEND:20251011T220000Z
END:VEVENT
END:VCALENDAR
