BEGIN:VCALENDAR
VERSION:2.0
PRODID:SchoolNow
CALSCALE:GREGORIAN
BEGIN:VEVENT
UID:05861f48-8a81-11f0-8c81-0a58a9feac02
DTSTAMP:20250905T175159Z
SUMMARY:Open Swim (10-18-25)
URL;VALUE=URI:https://www.liverpool.k12.ny.us/departments/athletics/calenda
 r/8584856/open-swim-10-18-25
DTSTART:20251018T200000Z
DTEND:20251018T220000Z
END:VEVENT
END:VCALENDAR
