BEGIN:VCALENDAR
VERSION:2.0
PRODID:SchoolNow
CALSCALE:GREGORIAN
BEGIN:VEVENT
UID:88f10f5a-8a81-11f0-bed4-0a58a9feac02
DTSTAMP:20250905T175540Z
SUMMARY:Open Swim (10-23-25)
URL;VALUE=URI:https://www.liverpool.k12.ny.us/departments/athletics/calenda
 r/8584863/open-swim-10-23-25
DTSTART:20251023T224500Z
DTEND:20251024T004500Z
END:VEVENT
END:VCALENDAR
