BEGIN:VCALENDAR
VERSION:2.0
PRODID:SchoolNow
CALSCALE:GREGORIAN
BEGIN:VEVENT
UID:a883aecc-8a81-11f0-8159-0e8bc1cedf75
DTSTAMP:20250905T175633Z
SUMMARY:Open Swim (10-25-25)
URL;VALUE=URI:https://www.liverpool.k12.ny.us/departments/athletics/calenda
 r/8584868/open-swim-10-25-25
DTSTART:20251025T200000Z
DTEND:20251025T220000Z
END:VEVENT
END:VCALENDAR
