BEGIN:VCALENDAR
VERSION:2.0
PRODID:SchoolNow
CALSCALE:GREGORIAN
BEGIN:VEVENT
UID:bcb25a56-8a81-11f0-b089-0eac18ed6063
DTSTAMP:20250905T175706Z
SUMMARY:Open Swim (10-30-25)
URL;VALUE=URI:https://www.liverpool.k12.ny.us/departments/athletics/calenda
 r/8584871/open-swim-10-30-25
DTSTART:20251030T224500Z
DTEND:20251031T004500Z
END:VEVENT
END:VCALENDAR
