BEGIN:VCALENDAR
VERSION:2.0
PRODID:SchoolNow
CALSCALE:GREGORIAN
BEGIN:VEVENT
UID:e316bc1e-8a81-11f0-8c67-0a58a9feac02
DTSTAMP:20250905T175811Z
SUMMARY:Open Swim (11-1-25)
URL;VALUE=URI:https://www.liverpool.k12.ny.us/departments/athletics/calenda
 r/8584872/open-swim-11-1-25
DTSTART:20251101T200000Z
DTEND:20251101T220000Z
END:VEVENT
END:VCALENDAR
