BEGIN:VCALENDAR
VERSION:2.0
PRODID:SchoolNow
CALSCALE:GREGORIAN
BEGIN:VEVENT
UID:fe86494c-8a81-11f0-a06c-02cdd1537759
DTSTAMP:20250905T175857Z
SUMMARY:Open Swim (11-6-25)
URL;VALUE=URI:https://www.liverpool.k12.ny.us/departments/athletics/calenda
 r/8584873/open-swim-11-6-25
DTSTART:20251106T234500Z
DTEND:20251107T014500Z
END:VEVENT
END:VCALENDAR
