BEGIN:VCALENDAR
VERSION:2.0
PRODID:SchoolNow
CALSCALE:GREGORIAN
BEGIN:VEVENT
UID:1dc05fa0-8a82-11f0-a946-0a58a9feac02
DTSTAMP:20250905T175949Z
SUMMARY:Open Swim (11-8-25)
URL;VALUE=URI:https://www.liverpool.k12.ny.us/departments/athletics/calenda
 r/8584874/open-swim-11-8-25
DTSTART:20251108T210000Z
DTEND:20251108T230000Z
END:VEVENT
END:VCALENDAR
