BEGIN:VCALENDAR
VERSION:2.0
PRODID:SchoolNow
CALSCALE:GREGORIAN
BEGIN:VEVENT
UID:367ce9c8-8a82-11f0-87b9-0a58a9feac02
DTSTAMP:20250905T180031Z
SUMMARY:Open Swim (11-13-25)
URL;VALUE=URI:https://www.liverpool.k12.ny.us/departments/athletics/calenda
 r/8584875/open-swim-11-13-25
DTSTART:20251113T234500Z
DTEND:20251114T014500Z
END:VEVENT
END:VCALENDAR
