BEGIN:VCALENDAR
VERSION:2.0
PRODID:SchoolNow
CALSCALE:GREGORIAN
BEGIN:VEVENT
UID:9eeeb18a-8a82-11f0-af0e-0a58a9feac02
DTSTAMP:20250905T180326Z
SUMMARY:Open Swim (12-4-25)
URL;VALUE=URI:https://www.liverpool.k12.ny.us/departments/athletics/calenda
 r/8584879/open-swim-12-4-25
DTSTART:20251204T234500Z
DTEND:20251205T014500Z
END:VEVENT
END:VCALENDAR
