BEGIN:VCALENDAR
VERSION:2.0
PRODID:SchoolNow
CALSCALE:GREGORIAN
BEGIN:VEVENT
UID:b0f6d33a-8a82-11f0-b911-0a58a9feac02
DTSTAMP:20250905T180356Z
SUMMARY:Open Swim (12-6-25)
URL;VALUE=URI:https://www.liverpool.k12.ny.us/departments/athletics/calenda
 r/8584880/open-swim-12-6-25
DTSTART:20251206T210000Z
DTEND:20251206T230000Z
END:VEVENT
END:VCALENDAR
