BEGIN:VCALENDAR
VERSION:2.0
PRODID:SchoolNow
CALSCALE:GREGORIAN
BEGIN:VEVENT
UID:d63be75c-8a82-11f0-88d8-0affdd65475b
DTSTAMP:20250905T180459Z
SUMMARY:Open Swim (12-13-25)
URL;VALUE=URI:https://www.liverpool.k12.ny.us/departments/athletics/calenda
 r/8584882/open-swim-12-13-25
DTSTART:20251213T210000Z
DTEND:20251213T230000Z
END:VEVENT
END:VCALENDAR
