BEGIN:VCALENDAR
VERSION:2.0
PRODID:SchoolNow
CALSCALE:GREGORIAN
BEGIN:VEVENT
UID:f3715c94-8a82-11f0-aa71-0a58a9feac02
DTSTAMP:20250905T180548Z
SUMMARY:Open Swim (12-18-25)
URL;VALUE=URI:https://www.liverpool.k12.ny.us/departments/athletics/calenda
 r/8584883/open-swim-12-18-25
DTSTART:20251218T234500Z
DTEND:20251219T014500Z
END:VEVENT
END:VCALENDAR
