BEGIN:VCALENDAR
VERSION:2.0
PRODID:SchoolNow
CALSCALE:GREGORIAN
BEGIN:VEVENT
UID:157f7104-8a83-11f0-a8ca-0a58a9feac02
DTSTAMP:20250905T180645Z
SUMMARY:Open Swim (1-8-26)
URL;VALUE=URI:https://www.liverpool.k12.ny.us/departments/athletics/calenda
 r/8584884/open-swim-1-8-26
DTSTART:20260108T234500Z
DTEND:20260109T014500Z
END:VEVENT
END:VCALENDAR
