BEGIN:VCALENDAR
VERSION:2.0
PRODID:SchoolNow
CALSCALE:GREGORIAN
BEGIN:VEVENT
UID:29203752-8a83-11f0-963a-0e73a3925813
DTSTAMP:20250905T180718Z
SUMMARY:Open Swim (1-10-26)
URL;VALUE=URI:https://www.liverpool.k12.ny.us/departments/athletics/calenda
 r/8584885/open-swim-1-10-26
DTSTART:20260110T210000Z
DTEND:20260110T230000Z
END:VEVENT
END:VCALENDAR
