BEGIN:VCALENDAR
VERSION:2.0
PRODID:SchoolNow
CALSCALE:GREGORIAN
BEGIN:VEVENT
UID:6505bd46-8a83-11f0-ab8d-0a58a9feac02
DTSTAMP:20250905T180858Z
SUMMARY:Open Swim (1-17-26)
URL;VALUE=URI:https://www.liverpool.k12.ny.us/departments/athletics/calenda
 r/8584887/open-swim-1-17-26
DTSTART:20260117T210000Z
DTEND:20260117T230000Z
END:VEVENT
END:VCALENDAR
