BEGIN:VCALENDAR
VERSION:2.0
PRODID:SchoolNow
CALSCALE:GREGORIAN
BEGIN:VEVENT
UID:7bafd1f8-8a83-11f0-8686-0e73a3925813
DTSTAMP:20250905T180936Z
SUMMARY:Open Swim (1-22-26)
URL;VALUE=URI:https://www.liverpool.k12.ny.us/departments/athletics/calenda
 r/8584888/open-swim-1-22-26
DTSTART:20260122T234500Z
DTEND:20260123T014500Z
END:VEVENT
END:VCALENDAR
