BEGIN:VCALENDAR
VERSION:2.0
PRODID:SchoolNow
CALSCALE:GREGORIAN
BEGIN:VEVENT
UID:8e16ca54-8a83-11f0-b19c-02cdd1537759
DTSTAMP:20250905T181007Z
SUMMARY:Open Swim (1-24-26)
URL;VALUE=URI:https://www.liverpool.k12.ny.us/departments/athletics/calenda
 r/8584889/open-swim-1-24-26
DTSTART:20260124T210000Z
DTEND:20260124T230000Z
END:VEVENT
END:VCALENDAR
