BEGIN:VCALENDAR
VERSION:2.0
PRODID:SchoolNow
CALSCALE:GREGORIAN
BEGIN:VEVENT
UID:a2737862-8a83-11f0-bae7-0a58a9feac02
DTSTAMP:20250905T181041Z
SUMMARY:Open Swim (1-31-26)
URL;VALUE=URI:https://www.liverpool.k12.ny.us/departments/athletics/calenda
 r/8584890/open-swim-1-31-26
DTSTART:20260131T210000Z
DTEND:20260131T230000Z
END:VEVENT
END:VCALENDAR
