BEGIN:VCALENDAR
VERSION:2.0
PRODID:SchoolNow
CALSCALE:GREGORIAN
BEGIN:VEVENT
UID:50eea914-8a86-11f0-9385-0a58a9feac02
DTSTAMP:20250905T182953Z
SUMMARY:Open Swim (2-7-26)
URL;VALUE=URI:https://www.liverpool.k12.ny.us/departments/athletics/calenda
 r/8584905/open-swim-2-7-26
DTSTART:20260207T210000Z
DTEND:20260207T230000Z
END:VEVENT
END:VCALENDAR
