BEGIN:VCALENDAR
VERSION:2.0
PRODID:SchoolNow
CALSCALE:GREGORIAN
BEGIN:VEVENT
UID:7ffe6cb2-8a86-11f0-8ffa-0a58a9feac02
DTSTAMP:20250905T183112Z
SUMMARY:Open Swim (2-12-26)
URL;VALUE=URI:https://www.liverpool.k12.ny.us/departments/athletics/calenda
 r/8584906/open-swim-2-12-26
DTSTART:20260212T234500Z
DTEND:20260213T014500Z
END:VEVENT
END:VCALENDAR
