BEGIN:VCALENDAR
VERSION:2.0
PRODID:SchoolNow
CALSCALE:GREGORIAN
BEGIN:VEVENT
UID:9b1ddb5e-8a86-11f0-8e01-0a58a9feac02
DTSTAMP:20250905T183158Z
SUMMARY:Open Swim (2-16-26)
URL;VALUE=URI:https://www.liverpool.k12.ny.us/departments/athletics/calenda
 r/8584907/open-swim-2-16-26
DTSTART:20260216T150000Z
DTEND:20260216T170000Z
END:VEVENT
END:VCALENDAR
