BEGIN:VCALENDAR
VERSION:2.0
PRODID:SchoolNow
CALSCALE:GREGORIAN
BEGIN:VEVENT
UID:af8421c0-8a86-11f0-8829-0a58a9feac02
DTSTAMP:20250905T183232Z
SUMMARY:Open Swim (2-17-26)
URL;VALUE=URI:https://www.liverpool.k12.ny.us/departments/athletics/calenda
 r/8584908/open-swim-2-17-26
DTSTART:20260217T150000Z
DTEND:20260217T170000Z
END:VEVENT
END:VCALENDAR
