BEGIN:VCALENDAR
VERSION:2.0
PRODID:SchoolNow
CALSCALE:GREGORIAN
BEGIN:VEVENT
UID:c5431746-8a86-11f0-a927-0ee2387fc54b
DTSTAMP:20250905T183308Z
SUMMARY:Open Swim (2-18-26)
URL;VALUE=URI:https://www.liverpool.k12.ny.us/departments/athletics/calenda
 r/8584910/open-swim-2-18-26
DTSTART:20260218T150000Z
DTEND:20260218T170000Z
END:VEVENT
END:VCALENDAR
