BEGIN:VCALENDAR
VERSION:2.0
PRODID:SchoolNow
CALSCALE:GREGORIAN
BEGIN:VEVENT
UID:eddafcdc-8a86-11f0-9232-0e8bc1cedf75
DTSTAMP:20250905T183416Z
SUMMARY:Open Swim (2-19-26)
URL;VALUE=URI:https://www.liverpool.k12.ny.us/departments/athletics/calenda
 r/8584912/open-swim-2-19-26
DTSTART:20260219T070000Z
DTEND:20260219T170000Z
END:VEVENT
END:VCALENDAR
