BEGIN:VCALENDAR
VERSION:2.0
PRODID:SchoolNow
CALSCALE:GREGORIAN
BEGIN:VEVENT
UID:03cb0c58-8a87-11f0-9818-0a58a9feac02
DTSTAMP:20250905T183453Z
SUMMARY:Open Swim (2-26-26)
URL;VALUE=URI:https://www.liverpool.k12.ny.us/departments/athletics/calenda
 r/8584914/open-swim-2-26-26
DTSTART:20260226T234500Z
DTEND:20260227T014500Z
END:VEVENT
END:VCALENDAR
