BEGIN:VCALENDAR
VERSION:2.0
PRODID:SchoolNow
CALSCALE:GREGORIAN
BEGIN:VEVENT
UID:17b236ce-8a87-11f0-bb83-0a58a9feac02
DTSTAMP:20250905T183527Z
SUMMARY:Open Swim (2-28-26)
URL;VALUE=URI:https://www.liverpool.k12.ny.us/departments/athletics/calenda
 r/8584915/open-swim-2-28-26
DTSTART:20260228T210000Z
DTEND:20260228T230000Z
END:VEVENT
END:VCALENDAR
