BEGIN:VCALENDAR
VERSION:2.0
PRODID:SchoolNow
CALSCALE:GREGORIAN
BEGIN:VEVENT
UID:286130e6-8a88-11f0-9feb-0a58a9feac02
DTSTAMP:20250905T184304Z
SUMMARY:Open Swim (3-7-26)
URL;VALUE=URI:https://www.liverpool.k12.ny.us/departments/athletics/calenda
 r/8584920/open-swim-3-7-26
DTSTART:20260307T210000Z
DTEND:20260307T230000Z
END:VEVENT
END:VCALENDAR
