BEGIN:VCALENDAR
VERSION:2.0
PRODID:SchoolNow
CALSCALE:GREGORIAN
BEGIN:VEVENT
UID:3ea9ea0a-8a88-11f0-b011-0a58a9feac02
DTSTAMP:20250905T184341Z
SUMMARY:Open Swim (3-12-26)
URL;VALUE=URI:https://www.liverpool.k12.ny.us/departments/athletics/calenda
 r/8584921/open-swim-3-12-26
DTSTART:20260312T224500Z
DTEND:20260313T004500Z
END:VEVENT
END:VCALENDAR
