BEGIN:VCALENDAR
VERSION:2.0
PRODID:SchoolNow
CALSCALE:GREGORIAN
BEGIN:VEVENT
UID:7d272c2a-8a88-11f0-811b-0a58a9feac02
DTSTAMP:20250905T184526Z
SUMMARY:Open Swim (3-26-26)
URL;VALUE=URI:https://www.liverpool.k12.ny.us/departments/athletics/calenda
 r/8584924/open-swim-3-26-26
DTSTART:20260326T224500Z
DTEND:20260327T004500Z
END:VEVENT
END:VCALENDAR
