BEGIN:VCALENDAR
VERSION:2.0
PRODID:SchoolNow
CALSCALE:GREGORIAN
BEGIN:VEVENT
UID:969ea3d6-8a88-11f0-9d6c-0a58a9feac02
DTSTAMP:20250905T184609Z
SUMMARY:Open Swim (3-21-26)
URL;VALUE=URI:https://www.liverpool.k12.ny.us/departments/athletics/calenda
 r/8584925/open-swim-3-21-26
DTSTART:20260321T200000Z
DTEND:20260321T220000Z
END:VEVENT
END:VCALENDAR
