BEGIN:VCALENDAR
VERSION:2.0
PRODID:SchoolNow
CALSCALE:GREGORIAN
BEGIN:VEVENT
UID:aea0daf8-8a88-11f0-8593-0eac18ed6063
DTSTAMP:20250905T184649Z
SUMMARY:Open Swim (3-30-26)
URL;VALUE=URI:https://www.liverpool.k12.ny.us/departments/athletics/calenda
 r/8584926/open-swim-3-30-26
DTSTART:20260330T140000Z
DTEND:20260330T160000Z
END:VEVENT
END:VCALENDAR
