BEGIN:VCALENDAR
VERSION:2.0
PRODID:SchoolNow
CALSCALE:GREGORIAN
BEGIN:VEVENT
UID:dddba3c0-8a88-11f0-8608-0a58a9feac02
DTSTAMP:20250905T190109Z
SUMMARY:Open Swim (3-31-26)
URL;VALUE=URI:https://www.liverpool.k12.ny.us/departments/athletics/calenda
 r/8584927/open-swim-3-31-26
DTSTART:20260331T140000Z
DTEND:20260331T160000Z
END:VEVENT
END:VCALENDAR
