BEGIN:VCALENDAR
VERSION:2.0
PRODID:SchoolNow
CALSCALE:GREGORIAN
BEGIN:VEVENT
UID:fc4cd522-8a88-11f0-bd92-0eac18ed6063
DTSTAMP:20250905T184900Z
SUMMARY:Open Swim (4-1-26)
URL;VALUE=URI:https://www.liverpool.k12.ny.us/departments/athletics/calenda
 r/8584928/open-swim-4-1-26
DTSTART:20260401T140000Z
DTEND:20260401T160000Z
END:VEVENT
END:VCALENDAR
