BEGIN:VCALENDAR
VERSION:2.0
PRODID:SchoolNow
CALSCALE:GREGORIAN
BEGIN:VEVENT
UID:1104deb0-8a89-11f0-b977-0a58a9feac02
DTSTAMP:20250905T184934Z
SUMMARY:Open Swim (4-2-26)
URL;VALUE=URI:https://www.liverpool.k12.ny.us/departments/athletics/calenda
 r/8584929/open-swim-4-2-26
DTSTART:20260402T140000Z
DTEND:20260402T160000Z
END:VEVENT
END:VCALENDAR
