BEGIN:VCALENDAR
VERSION:2.0
PRODID:SchoolNow
CALSCALE:GREGORIAN
BEGIN:VEVENT
UID:32256fba-8a89-11f0-b453-0a58a9feac02
DTSTAMP:20250905T185030Z
SUMMARY:Open Swim (4-9-26)
URL;VALUE=URI:https://www.liverpool.k12.ny.us/departments/athletics/calenda
 r/8584930/open-swim-4-9-26
DTSTART:20260409T224500Z
DTEND:20260410T004500Z
END:VEVENT
END:VCALENDAR
