BEGIN:VCALENDAR
VERSION:2.0
PRODID:SchoolNow
CALSCALE:GREGORIAN
BEGIN:VEVENT
UID:474e4e70-8a89-11f0-9c22-0e8bc1cedf75
DTSTAMP:20250905T185105Z
SUMMARY:Open Swim (4-11-26)
URL;VALUE=URI:https://www.liverpool.k12.ny.us/departments/athletics/calenda
 r/8584931/open-swim-4-11-26
DTSTART:20260411T200000Z
DTEND:20260411T220000Z
END:VEVENT
END:VCALENDAR
