BEGIN:VCALENDAR
VERSION:2.0
PRODID:SchoolNow
CALSCALE:GREGORIAN
BEGIN:VEVENT
UID:5b34bfb4-8a89-11f0-97a4-0affdd65475b
DTSTAMP:20250905T185139Z
SUMMARY:Open Swim (4-16-26)
URL;VALUE=URI:https://www.liverpool.k12.ny.us/departments/athletics/calenda
 r/8584932/open-swim-4-16-26
DTSTART:20260416T224500Z
DTEND:20260417T004500Z
END:VEVENT
END:VCALENDAR
