BEGIN:VCALENDAR
VERSION:2.0
PRODID:SchoolNow
CALSCALE:GREGORIAN
BEGIN:VEVENT
UID:77676d3a-8a89-11f0-afa3-0eac18ed6063
DTSTAMP:20250905T185226Z
SUMMARY:Open Swim (4-18-26)
URL;VALUE=URI:https://www.liverpool.k12.ny.us/departments/athletics/calenda
 r/8584933/open-swim-4-18-26
DTSTART:20260418T200000Z
DTEND:20260418T220000Z
END:VEVENT
END:VCALENDAR
