BEGIN:VCALENDAR
VERSION:2.0
PRODID:SchoolNow
CALSCALE:GREGORIAN
BEGIN:VEVENT
UID:080cc8ca-8a8b-11f0-8f43-02cdd1537759
DTSTAMP:20250905T190338Z
SUMMARY:Open Swim (4-23-26)
URL;VALUE=URI:https://www.liverpool.k12.ny.us/departments/athletics/calenda
 r/8584947/open-swim-4-23-26
DTSTART:20260423T224500Z
DTEND:20260423T234500Z
END:VEVENT
END:VCALENDAR
